BEGIN:VCALENDAR
VERSION:2.0
PRODID:-//NetAuktion//NONSGML NetAuktion//SV
METHOD:PUBLISH
BEGIN:VEVENT
UID:20260425T134349-13593393-netauktion.se
DTSTAMP:20260425T134349
DTSTART:20090521T010700
DTEND:20090521T011000
SUMMARY:Netauktion objekt 0122-026 Auktionspåminnelse
DESCRIPTION:Länk till objektet du var intresserad av: https://staging.netauktion.se/auktion/produkt/91-liter-farg-mm
END:VEVENT
END:VCALENDAR
