BEGIN:VCALENDAR
VERSION:2.0
PRODID:-//NetAuktion//NONSGML NetAuktion//SV
METHOD:PUBLISH
BEGIN:VEVENT
UID:20260425T134248-852813823-netauktion.se
DTSTAMP:20260425T134248
DTSTART:20090515T055700
DTEND:20090515T060000
SUMMARY:Netauktion objekt 0196-111 Auktionspåminnelse
DESCRIPTION:Länk till objektet du var intresserad av: https://staging.netauktion.se/auktion/produkt/slapkarra
END:VEVENT
END:VCALENDAR
