BEGIN:VCALENDAR
VERSION:2.0
PRODID:-//NetAuktion//NONSGML NetAuktion//SV
METHOD:PUBLISH
BEGIN:VEVENT
UID:20260425T134251-1195207092-netauktion.se
DTSTAMP:20260425T134251
DTSTART:20090521T012000
DTEND:20090521T012300
SUMMARY:Netauktion objekt 0210-149 Auktionspåminnelse
DESCRIPTION:Länk till objektet du var intresserad av: https://staging.netauktion.se/auktion/produkt/elektrisk-stallbar-sang-90cm-5
END:VEVENT
END:VCALENDAR
