BEGIN:VCALENDAR
VERSION:2.0
PRODID:-//NetAuktion//NONSGML NetAuktion//SV
METHOD:PUBLISH
BEGIN:VEVENT
UID:20260425T134253-734609950-netauktion.se
DTSTAMP:20260425T134253
DTSTART:20090521T011400
DTEND:20090521T011700
SUMMARY:Netauktion objekt 0210-150 Auktionspåminnelse
DESCRIPTION:Länk till objektet du var intresserad av: https://staging.netauktion.se/auktion/produkt/elektrisk-stallbar-sang-90cm-4
END:VEVENT
END:VCALENDAR
