BEGIN:VCALENDAR
VERSION:2.0
PRODID:-//NetAuktion//NONSGML NetAuktion//SV
METHOD:PUBLISH
BEGIN:VEVENT
UID:20260425T123243-183208128-netauktion.se
DTSTAMP:20260425T123243
DTSTART:20090521T012100
DTEND:20090521T012400
SUMMARY:Netauktion objekt 0210-152 Auktionspåminnelse
DESCRIPTION:Länk till objektet du var intresserad av: https://staging.netauktion.se/auktion/produkt/elektrisk-stallbar-sang-90cm-6
END:VEVENT
END:VCALENDAR
