BEGIN:VCALENDAR
VERSION:2.0
PRODID:-//NetAuktion//NONSGML NetAuktion//SV
METHOD:PUBLISH
BEGIN:VEVENT
UID:20260421T104305-428687147-netauktion.se
DTSTAMP:20260421T104305
DTSTART:20090528T021100
DTEND:20090528T021400
SUMMARY:Netauktion objekt 0207-065 Auktionspåminnelse
DESCRIPTION:Länk till objektet du var intresserad av: https://staging.netauktion.se/auktion/produkt/efterrattsskedar-i-silver-rosenholm-7-delar
END:VEVENT
END:VCALENDAR
