BEGIN:VCALENDAR
VERSION:2.0
PRODID:-//NetAuktion//NONSGML NetAuktion//SV
METHOD:PUBLISH
BEGIN:VEVENT
UID:20260421T104307-1788867183-netauktion.se
DTSTAMP:20260421T104307
DTSTART:20090528T020400
DTEND:20090528T020700
SUMMARY:Netauktion objekt 0207-068 Auktionspåminnelse
DESCRIPTION:Länk till objektet du var intresserad av: https://staging.netauktion.se/auktion/produkt/kaffemockaskedar-i-silver-totalt-16-delar
END:VEVENT
END:VCALENDAR
