BEGIN:VCALENDAR
VERSION:2.0
PRODID:-//NetAuktion//NONSGML NetAuktion//SV
METHOD:PUBLISH
BEGIN:VEVENT
UID:20260421T104438-1941528558-netauktion.se
DTSTAMP:20260421T104438
DTSTART:20140130T055700
DTEND:20140130T060000
SUMMARY:Netauktion objekt 1723-091 Auktionspåminnelse
DESCRIPTION:Länk till objektet du var intresserad av: https://staging.netauktion.se/auktion/produkt/oceanen-1010-1011-nils-andersson-goteborgs-nostalgimassa-27-april-2014
END:VEVENT
END:VCALENDAR
