BEGIN:VCALENDAR
VERSION:2.0
PRODID:-//NetAuktion//NONSGML NetAuktion//SV
METHOD:PUBLISH
BEGIN:VEVENT
UID:20260421T104440-1121864958-netauktion.se
DTSTAMP:20260421T104440
DTSTART:20140228T024700
DTEND:20140228T025000
SUMMARY:Netauktion objekt 1657-061 Auktionspåminnelse
DESCRIPTION:Länk till objektet du var intresserad av: https://staging.netauktion.se/auktion/produkt/inbyggnadsugn-siemens-hb76p570s
END:VEVENT
END:VCALENDAR
