BEGIN:VCALENDAR
VERSION:2.0
PRODID:-//NetAuktion//NONSGML NetAuktion//SV
METHOD:PUBLISH
BEGIN:VEVENT
UID:20260421T102952-607469728-netauktion.se
DTSTAMP:20260421T102952
DTSTART:20140228T023500
DTEND:20140228T023800
SUMMARY:Netauktion objekt 1657-063 Auktionspåminnelse
DESCRIPTION:Länk till objektet du var intresserad av: https://staging.netauktion.se/auktion/produkt/front-och-underlada-till-ugnmicro
END:VEVENT
END:VCALENDAR
