BEGIN:VCALENDAR
VERSION:2.0
PRODID:-//NetAuktion//NONSGML NetAuktion//SV
METHOD:PUBLISH
BEGIN:VEVENT
UID:20260421T102833-1806486531-netauktion.se
DTSTAMP:20260421T102833
DTSTART:20140228T023400
DTEND:20140228T023700
SUMMARY:Netauktion objekt 1657-064 Auktionspåminnelse
DESCRIPTION:Länk till objektet du var intresserad av: https://staging.netauktion.se/auktion/produkt/spegel-noro-polo-900
END:VEVENT
END:VCALENDAR
