BEGIN:VCALENDAR
VERSION:2.0
PRODID:-//NetAuktion//NONSGML NetAuktion//SV
METHOD:PUBLISH
BEGIN:VEVENT
UID:20260421T104305-1464281721-netauktion.se
DTSTAMP:20260421T104305
DTSTART:20090528T011900
DTEND:20090528T012200
SUMMARY:Netauktion objekt 0207-071 Auktionspåminnelse
DESCRIPTION:Länk till objektet du var intresserad av: https://staging.netauktion.se/auktion/produkt/2-tilltalande-bordsdukar
END:VEVENT
END:VCALENDAR
