BEGIN:VCALENDAR
VERSION:2.0
PRODID:-//NetAuktion//NONSGML NetAuktion//SV
METHOD:PUBLISH
BEGIN:VEVENT
UID:20260421T102840-1255432558-netauktion.se
DTSTAMP:20260421T102840
DTSTART:20140331T023900
DTEND:20140331T024200
SUMMARY:Netauktion objekt 1726-019 Auktionspåminnelse
DESCRIPTION:Länk till objektet du var intresserad av: https://staging.netauktion.se/auktion/produkt/citroen-jumpy-20-hdi-skap-tzc014-03
END:VEVENT
END:VCALENDAR
