BEGIN:VCALENDAR
VERSION:2.0
PRODID:-//NetAuktion//NONSGML NetAuktion//SV
METHOD:PUBLISH
BEGIN:VEVENT
UID:20260425T134347-1017277326-netauktion.se
DTSTAMP:20260425T134347
DTSTART:20090517T005800
DTEND:20090517T010100
SUMMARY:Netauktion objekt 0262-023 Auktionspåminnelse
DESCRIPTION:Länk till objektet du var intresserad av: https://staging.netauktion.se/auktion/produkt/2st-elektriska-skrivbord
END:VEVENT
END:VCALENDAR
