BEGIN:VCALENDAR
VERSION:2.0
PRODID:-//NetAuktion//NONSGML NetAuktion//SV
METHOD:PUBLISH
BEGIN:VEVENT
UID:20260425T134348-127029498-netauktion.se
DTSTAMP:20260425T134348
DTSTART:20090517T010200
DTEND:20090517T010500
SUMMARY:Netauktion objekt 0242-017 Auktionspåminnelse
DESCRIPTION:Länk till objektet du var intresserad av: https://staging.netauktion.se/auktion/produkt/trappstege-dammsugare-stereo
END:VEVENT
END:VCALENDAR
