BEGIN:VCALENDAR
VERSION:2.0
PRODID:-//NetAuktion//NONSGML NetAuktion//SV
METHOD:PUBLISH
BEGIN:VEVENT
UID:20260421T104322-1963875506-netauktion.se
DTSTAMP:20260421T104322
DTSTART:20140331T015600
DTEND:20140331T015900
SUMMARY:Netauktion objekt 1768-027 Auktionspåminnelse
DESCRIPTION:Länk till objektet du var intresserad av: https://staging.netauktion.se/auktion/produkt/elektrohelios-tvattmaskin
END:VEVENT
END:VCALENDAR
