BEGIN:VCALENDAR
VERSION:2.0
PRODID:-//NetAuktion//NONSGML NetAuktion//SV
METHOD:PUBLISH
BEGIN:VEVENT
UID:20260421T104630-2107038530-netauktion.se
DTSTAMP:20260421T104630
DTSTART:20140331T024300
DTEND:20140331T024600
SUMMARY:Netauktion objekt 1753-115 Auktionspåminnelse
DESCRIPTION:Länk till objektet du var intresserad av: https://staging.netauktion.se/auktion/produkt/vw-transporter-t5-19-tdi-pickup-kgn874-07
END:VEVENT
END:VCALENDAR
