BEGIN:VCALENDAR
VERSION:2.0
PRODID:-//NetAuktion//NONSGML NetAuktion//SV
METHOD:PUBLISH
BEGIN:VEVENT
UID:20260425T134250-1149154404-netauktion.se
DTSTAMP:20260425T134250
DTSTART:20090520T165700
DTEND:20090520T170000
SUMMARY:Netauktion objekt 0262-024 Auktionspåminnelse
DESCRIPTION:Länk till objektet du var intresserad av: https://staging.netauktion.se/auktion/produkt/gammal-server
END:VEVENT
END:VCALENDAR
