BEGIN:VCALENDAR
VERSION:2.0
PRODID:-//NetAuktion//NONSGML NetAuktion//SV
METHOD:PUBLISH
BEGIN:VEVENT
UID:20260421T104358-588198315-netauktion.se
DTSTAMP:20260421T104358
DTSTART:20140331T020400
DTEND:20140331T020700
SUMMARY:Netauktion objekt 1786-007 Auktionspåminnelse
DESCRIPTION:Länk till objektet du var intresserad av: https://staging.netauktion.se/auktion/produkt/2-lufts-fonster
END:VEVENT
END:VCALENDAR
