BEGIN:VCALENDAR
VERSION:2.0
PRODID:-//NetAuktion//NONSGML NetAuktion//SV
METHOD:PUBLISH
BEGIN:VEVENT
UID:20260421T102840-2127814295-netauktion.se
DTSTAMP:20260421T102840
DTSTART:20141128T010000
DTEND:20141128T010300
SUMMARY:Netauktion objekt 1778-047 Auktionspåminnelse
DESCRIPTION:Länk till objektet du var intresserad av: https://staging.netauktion.se/auktion/produkt/kulgevar-husqvarna-kal-8x57
END:VEVENT
END:VCALENDAR
