BEGIN:VCALENDAR
VERSION:2.0
PRODID:-//NetAuktion//NONSGML NetAuktion//SV
METHOD:PUBLISH
BEGIN:VEVENT
UID:20260421T104310-1760690978-netauktion.se
DTSTAMP:20260421T104310
DTSTART:20080829T013100
DTEND:20080829T013400
SUMMARY:Netauktion objekt 0057-035 Auktionspåminnelse
DESCRIPTION:Länk till objektet du var intresserad av: https://staging.netauktion.se/auktion/produkt/biljardbord-for-barn
END:VEVENT
END:VCALENDAR
