BEGIN:VCALENDAR
VERSION:2.0
PRODID:-//NetAuktion//NONSGML NetAuktion//SV
METHOD:PUBLISH
BEGIN:VEVENT
UID:20260421T102839-1074733329-netauktion.se
DTSTAMP:20260421T102839
DTSTART:20140530T024200
DTEND:20140530T024500
SUMMARY:Netauktion objekt 1726-022 Auktionspåminnelse
DESCRIPTION:Länk till objektet du var intresserad av: https://staging.netauktion.se/auktion/produkt/en-tralada-med-diverse-redskap-och-klader
END:VEVENT
END:VCALENDAR
