BEGIN:VCALENDAR
VERSION:2.0
PRODID:-//NetAuktion//NONSGML NetAuktion//SV
METHOD:PUBLISH
BEGIN:VEVENT
UID:20260421T104607-1709122458-netauktion.se
DTSTAMP:20260421T104607
DTSTART:20140331T013700
DTEND:20140331T014000
SUMMARY:Netauktion objekt 1804-009 Auktionspåminnelse
DESCRIPTION:Länk till objektet du var intresserad av: https://staging.netauktion.se/auktion/produkt/5-st-bord-3
END:VEVENT
END:VCALENDAR
