BEGIN:VCALENDAR
VERSION:2.0
PRODID:-//NetAuktion//NONSGML NetAuktion//SV
METHOD:PUBLISH
BEGIN:VEVENT
UID:20260421T103030-1833018816-netauktion.se
DTSTAMP:20260421T103030
DTSTART:20140331T014000
DTEND:20140331T014300
SUMMARY:Netauktion objekt 1804-010 Auktionspåminnelse
DESCRIPTION:Länk till objektet du var intresserad av: https://staging.netauktion.se/auktion/produkt/5-st-bord-4
END:VEVENT
END:VCALENDAR
