BEGIN:VCALENDAR
VERSION:2.0
PRODID:-//NetAuktion//NONSGML NetAuktion//SV
METHOD:PUBLISH
BEGIN:VEVENT
UID:20260421T102839-1124364773-netauktion.se
DTSTAMP:20260421T102839
DTSTART:20140331T021500
DTEND:20140331T021800
SUMMARY:Netauktion objekt 1804-019 Auktionspåminnelse
DESCRIPTION:Länk till objektet du var intresserad av: https://staging.netauktion.se/auktion/produkt/vittinge-takpannor
END:VEVENT
END:VCALENDAR
