BEGIN:VCALENDAR
VERSION:2.0
PRODID:-//NetAuktion//NONSGML NetAuktion//SV
METHOD:PUBLISH
BEGIN:VEVENT
UID:20260421T104533-620713274-netauktion.se
DTSTAMP:20260421T104533
DTSTART:20140331T014100
DTEND:20140331T014400
SUMMARY:Netauktion objekt 1804-013 Auktionspåminnelse
DESCRIPTION:Länk till objektet du var intresserad av: https://staging.netauktion.se/auktion/produkt/pallstall-27
END:VEVENT
END:VCALENDAR
