BEGIN:VCALENDAR
VERSION:2.0
PRODID:-//NetAuktion//NONSGML NetAuktion//SV
METHOD:PUBLISH
BEGIN:VEVENT
UID:20260421T102851-1610868030-netauktion.se
DTSTAMP:20260421T102851
DTSTART:20140430T010000
DTEND:20140430T010300
SUMMARY:Netauktion objekt 1553-147 Auktionspåminnelse
DESCRIPTION:Länk till objektet du var intresserad av: https://staging.netauktion.se/auktion/produkt/lekhagekamingaller
END:VEVENT
END:VCALENDAR
