BEGIN:VCALENDAR
VERSION:2.0
PRODID:-//NetAuktion//NONSGML NetAuktion//SV
METHOD:PUBLISH
BEGIN:VEVENT
UID:20260421T102837-545246535-netauktion.se
DTSTAMP:20260421T102837
DTSTART:20090528T012100
DTEND:20090528T012400
SUMMARY:Netauktion objekt 0207-074 Auktionspåminnelse
DESCRIPTION:Länk till objektet du var intresserad av: https://staging.netauktion.se/auktion/produkt/batmodeller-sign-urban-strom-mm
END:VEVENT
END:VCALENDAR
