BEGIN:VCALENDAR
VERSION:2.0
PRODID:-//NetAuktion//NONSGML NetAuktion//SV
METHOD:PUBLISH
BEGIN:VEVENT
UID:20260421T104426-686413047-netauktion.se
DTSTAMP:20260421T104426
DTSTART:20140331T055700
DTEND:20140331T060000
SUMMARY:Netauktion objekt 1723-128 Auktionspåminnelse
DESCRIPTION:Länk till objektet du var intresserad av: https://staging.netauktion.se/auktion/produkt/grynnan-5-doris-andersson-nostalgimassan-27-april-2014
END:VEVENT
END:VCALENDAR
