BEGIN:VCALENDAR
VERSION:2.0
PRODID:-//NetAuktion//NONSGML NetAuktion//SV
METHOD:PUBLISH
BEGIN:VEVENT
UID:20260421T102745-1279247946-netauktion.se
DTSTAMP:20260421T102745
DTSTART:20140827T012500
DTEND:20140827T012800
SUMMARY:Netauktion objekt 1783-037 Auktionspåminnelse
DESCRIPTION:Länk till objektet du var intresserad av: https://staging.netauktion.se/auktion/produkt/roj-motorsagar-reparationsobjekt
END:VEVENT
END:VCALENDAR
