BEGIN:VCALENDAR
VERSION:2.0
PRODID:-//NetAuktion//NONSGML NetAuktion//SV
METHOD:PUBLISH
BEGIN:VEVENT
UID:20260421T104311-995452648-netauktion.se
DTSTAMP:20260421T104311
DTSTART:20090528T012300
DTEND:20090528T012600
SUMMARY:Netauktion objekt 0207-078 Auktionspåminnelse
DESCRIPTION:Länk till objektet du var intresserad av: https://staging.netauktion.se/auktion/produkt/figurer-och-bokstod
END:VEVENT
END:VCALENDAR
