BEGIN:VCALENDAR
VERSION:2.0
PRODID:-//NetAuktion//NONSGML NetAuktion//SV
METHOD:PUBLISH
BEGIN:VEVENT
UID:20260421T104254-1301069220-netauktion.se
DTSTAMP:20260421T104254
DTSTART:20090528T012700
DTEND:20090528T013000
SUMMARY:Netauktion objekt 0207-079 Auktionspåminnelse
DESCRIPTION:Länk till objektet du var intresserad av: https://staging.netauktion.se/auktion/produkt/parti-krus
END:VEVENT
END:VCALENDAR
