BEGIN:VCALENDAR
VERSION:2.0
PRODID:-//NetAuktion//NONSGML NetAuktion//SV
METHOD:PUBLISH
BEGIN:VEVENT
UID:20260421T104324-1722622587-netauktion.se
DTSTAMP:20260421T104324
DTSTART:20090528T012500
DTEND:20090528T012800
SUMMARY:Netauktion objekt 0207-080 Auktionspåminnelse
DESCRIPTION:Länk till objektet du var intresserad av: https://staging.netauktion.se/auktion/produkt/orientaliskt-porslin-och-konstverk
END:VEVENT
END:VCALENDAR
