BEGIN:VCALENDAR
VERSION:2.0
PRODID:-//NetAuktion//NONSGML NetAuktion//SV
METHOD:PUBLISH
BEGIN:VEVENT
UID:20260421T102953-832081884-netauktion.se
DTSTAMP:20260421T102953
DTSTART:20140430T012300
DTEND:20140430T012600
SUMMARY:Netauktion objekt 1553-181 Auktionspåminnelse
DESCRIPTION:Länk till objektet du var intresserad av: https://staging.netauktion.se/auktion/produkt/lekstallning-med-rutschkana
END:VEVENT
END:VCALENDAR
