BEGIN:VCALENDAR
VERSION:2.0
PRODID:-//NetAuktion//NONSGML NetAuktion//SV
METHOD:PUBLISH
BEGIN:VEVENT
UID:20260421T104438-257407610-netauktion.se
DTSTAMP:20260421T104438
DTSTART:20140425T040900
DTEND:20140425T041200
SUMMARY:Netauktion objekt 1830-138 Auktionspåminnelse
DESCRIPTION:Länk till objektet du var intresserad av: https://staging.netauktion.se/auktion/produkt/litografi-malmo-paris
END:VEVENT
END:VCALENDAR
