BEGIN:VCALENDAR
VERSION:2.0
PRODID:-//NetAuktion//NONSGML NetAuktion//SV
METHOD:PUBLISH
BEGIN:VEVENT
UID:20260421T104353-865734528-netauktion.se
DTSTAMP:20260421T104353
DTSTART:20140430T155700
DTEND:20140430T160000
SUMMARY:Netauktion objekt 1831-011 Auktionspåminnelse
DESCRIPTION:Länk till objektet du var intresserad av: https://staging.netauktion.se/auktion/produkt/barbar-dator-hp-8
END:VEVENT
END:VCALENDAR
