BEGIN:VCALENDAR
VERSION:2.0
PRODID:-//NetAuktion//NONSGML NetAuktion//SV
METHOD:PUBLISH
BEGIN:VEVENT
UID:20260421T102747-664336139-netauktion.se
DTSTAMP:20260421T102747
DTSTART:20140530T021500
DTEND:20140530T021800
SUMMARY:Netauktion objekt 1720-121 Auktionspåminnelse
DESCRIPTION:Länk till objektet du var intresserad av: https://staging.netauktion.se/auktion/produkt/24st-shotglas-blandade-motiv-bla-lynnard-skynnard-och-the-who-novelli-creations-officiell-merchandise
END:VEVENT
END:VCALENDAR
