BEGIN:VCALENDAR
VERSION:2.0
PRODID:-//NetAuktion//NONSGML NetAuktion//SV
METHOD:PUBLISH
BEGIN:VEVENT
UID:20260421T104317-2075946524-netauktion.se
DTSTAMP:20260421T104317
DTSTART:20140530T021700
DTEND:20140530T022000
SUMMARY:Netauktion objekt 1720-123 Auktionspåminnelse
DESCRIPTION:Länk till objektet du var intresserad av: https://staging.netauktion.se/auktion/produkt/27st-shotglas-blandade-motiv-bla-ignite-och-supersuckers-novelli-creations-officiell-merchandise
END:VEVENT
END:VCALENDAR
