BEGIN:VCALENDAR
VERSION:2.0
PRODID:-//NetAuktion//NONSGML NetAuktion//SV
METHOD:PUBLISH
BEGIN:VEVENT
UID:20260421T104357-1286869673-netauktion.se
DTSTAMP:20260421T104357
DTSTART:20140530T021900
DTEND:20140530T022200
SUMMARY:Netauktion objekt 1720-125 Auktionspåminnelse
DESCRIPTION:Länk till objektet du var intresserad av: https://staging.netauktion.se/auktion/produkt/26st-shotglas-blandade-motiv-bla-sex-pistols-och-the-clash-officiell-merchandise
END:VEVENT
END:VCALENDAR
