BEGIN:VCALENDAR
VERSION:2.0
PRODID:-//NetAuktion//NONSGML NetAuktion//SV
METHOD:PUBLISH
BEGIN:VEVENT
UID:20260421T104446-1798265888-netauktion.se
DTSTAMP:20260421T104446
DTSTART:20140530T012700
DTEND:20140530T013000
SUMMARY:Netauktion objekt 1853-024 Auktionspåminnelse
DESCRIPTION:Länk till objektet du var intresserad av: https://staging.netauktion.se/auktion/produkt/maskinverktyg-27
END:VEVENT
END:VCALENDAR
