BEGIN:VCALENDAR
VERSION:2.0
PRODID:-//NetAuktion//NONSGML NetAuktion//SV
METHOD:PUBLISH
BEGIN:VEVENT
UID:20260421T102839-378612610-netauktion.se
DTSTAMP:20260421T102839
DTSTART:20140530T012700
DTEND:20140530T013000
SUMMARY:Netauktion objekt 1853-027 Auktionspåminnelse
DESCRIPTION:Länk till objektet du var intresserad av: https://staging.netauktion.se/auktion/produkt/ventilationsmatare-och-kabelsokare
END:VEVENT
END:VCALENDAR
