BEGIN:VCALENDAR
VERSION:2.0
PRODID:-//NetAuktion//NONSGML NetAuktion//SV
METHOD:PUBLISH
BEGIN:VEVENT
UID:20260421T104356-1159650570-netauktion.se
DTSTAMP:20260421T104356
DTSTART:20140530T013100
DTEND:20140530T013400
SUMMARY:Netauktion objekt 1853-032 Auktionspåminnelse
DESCRIPTION:Länk till objektet du var intresserad av: https://staging.netauktion.se/auktion/produkt/ventiler-2
END:VEVENT
END:VCALENDAR
