BEGIN:VCALENDAR
VERSION:2.0
PRODID:-//NetAuktion//NONSGML NetAuktion//SV
METHOD:PUBLISH
BEGIN:VEVENT
UID:20260421T104607-497327164-netauktion.se
DTSTAMP:20260421T104607
DTSTART:20140530T014200
DTEND:20140530T014500
SUMMARY:Netauktion objekt 1853-039 Auktionspåminnelse
DESCRIPTION:Länk till objektet du var intresserad av: https://staging.netauktion.se/auktion/produkt/rorverktyg-4
END:VEVENT
END:VCALENDAR
