BEGIN:VCALENDAR
VERSION:2.0
PRODID:-//NetAuktion//NONSGML NetAuktion//SV
METHOD:PUBLISH
BEGIN:VEVENT
UID:20260421T104427-1373627450-netauktion.se
DTSTAMP:20260421T104427
DTSTART:20140530T014700
DTEND:20140530T015000
SUMMARY:Netauktion objekt 1854-005 Auktionspåminnelse
DESCRIPTION:Länk till objektet du var intresserad av: https://staging.netauktion.se/auktion/produkt/pneumatik-och-klingor
END:VEVENT
END:VCALENDAR
