BEGIN:VCALENDAR
VERSION:2.0
PRODID:-//NetAuktion//NONSGML NetAuktion//SV
METHOD:PUBLISH
BEGIN:VEVENT
UID:20260421T104319-11902916-netauktion.se
DTSTAMP:20260421T104319
DTSTART:20090529T015700
DTEND:20090529T020000
SUMMARY:Netauktion objekt 0037-046 Auktionspåminnelse
DESCRIPTION:Länk till objektet du var intresserad av: https://staging.netauktion.se/auktion/produkt/helt-ny-vaska-bjorn-borg-original
END:VEVENT
END:VCALENDAR
