BEGIN:VCALENDAR
VERSION:2.0
PRODID:-//NetAuktion//NONSGML NetAuktion//SV
METHOD:PUBLISH
BEGIN:VEVENT
UID:20260421T104309-764626033-netauktion.se
DTSTAMP:20260421T104309
DTSTART:20090626T005900
DTEND:20090626T010200
SUMMARY:Netauktion objekt 0206-003 Auktionspåminnelse
DESCRIPTION:Länk till objektet du var intresserad av: https://staging.netauktion.se/auktion/produkt/projektor-panasonic
END:VEVENT
END:VCALENDAR
