BEGIN:VCALENDAR
VERSION:2.0
PRODID:-//NetAuktion//NONSGML NetAuktion//SV
METHOD:PUBLISH
BEGIN:VEVENT
UID:20260421T104456-1928604664-netauktion.se
DTSTAMP:20260421T104456
DTSTART:20140630T030000
DTEND:20140630T030300
SUMMARY:Netauktion objekt 1887-029 Auktionspåminnelse
DESCRIPTION:Länk till objektet du var intresserad av: https://staging.netauktion.se/auktion/produkt/barbord-7
END:VEVENT
END:VCALENDAR
