BEGIN:VCALENDAR
VERSION:2.0
PRODID:-//NetAuktion//NONSGML NetAuktion//SV
METHOD:PUBLISH
BEGIN:VEVENT
UID:20260421T102639-1405625668-netauktion.se
DTSTAMP:20260421T102639
DTSTART:20090626T010300
DTEND:20090626T010600
SUMMARY:Netauktion objekt 0206-007 Auktionspåminnelse
DESCRIPTION:Länk till objektet du var intresserad av: https://staging.netauktion.se/auktion/produkt/iphone-8gb-defekt
END:VEVENT
END:VCALENDAR
