BEGIN:VCALENDAR
VERSION:2.0
PRODID:-//NetAuktion//NONSGML NetAuktion//SV
METHOD:PUBLISH
BEGIN:VEVENT
UID:20260421T104306-1901419926-netauktion.se
DTSTAMP:20260421T104306
DTSTART:20090626T010500
DTEND:20090626T010800
SUMMARY:Netauktion objekt 0174-042 Auktionspåminnelse
DESCRIPTION:Länk till objektet du var intresserad av: https://staging.netauktion.se/auktion/produkt/apple-macintosh-stationar-dator-med-skrivare
END:VEVENT
END:VCALENDAR
