BEGIN:VCALENDAR
VERSION:2.0
PRODID:-//NetAuktion//NONSGML NetAuktion//SV
METHOD:PUBLISH
BEGIN:VEVENT
UID:20260421T104312-836210186-netauktion.se
DTSTAMP:20260421T104312
DTSTART:20090626T012200
DTEND:20090626T012500
SUMMARY:Netauktion objekt 0233-016 Auktionspåminnelse
DESCRIPTION:Länk till objektet du var intresserad av: https://staging.netauktion.se/auktion/produkt/datorpaket-hp-compaq-3
END:VEVENT
END:VCALENDAR
